Workbook
Name Industrial: Lists!$G$4:$G$7
Name Lifecycle: Lists!$K$3:$K$10
Name MSAs: Lists!$C$3:$C$29
Name Office: Lists!$F$4:$F$6
Name Other: Lists!$I$4:$I$9
Name PropType: Lists!$E$3:$I$3
Name Residential: Lists!$E$4:$E$9
Name Retail: Lists!$H$4:$H$6

Sheet Firm & Fund Overview
B2: NEPC Open-End Fund Request for Information | M2: Data as of: | N2: 46203 | R2: {=_xlfn.IFS(MONTH($F$23)<=3,YEAR($F$23)&1,MONTH($F$23)<=6,YEAR($F$23)&2,MONTH($F$23)<=9,YEAR($F$23)&3,MONTH($F$23)<=12,YEAR($F$23)&4)} -> 20171
B4: Important Information:
B5: ="1. Please enter all data as of "&TEXT($N$2,"MMMM DD, YYYY")&"." -> 1. Please enter all data as of June 30, 2026. | I5: Name of individual who completed RFI | L5: John Smith
B6: 2. Do not add, delete, or modify any rows or columns. | I6: Email address of individual | L6: jsmith@abc.com
B7: 3. Do not modify any cell formatting.
B8: 4. Please enter all dollars in millions unless otherwise indicated.
B10: Firm & Fund Overview | P10: Comments
A11: 1 | B11: Firm Overview | P11: Do not insert rows; please add comments or footnotes in this column or below row 127.
B13: Firm Name | D13: ABC Capital Management | I13: Firm Assets Under Management (AUM) | M13: 25000
B14: Firm Headquarters (City, State) | D14: Boston, MA | I14: Firm Real Estate AUM | M14: 11253.7
I15: Firm Private Real Estate AUM | M15: 9019.2
B16: Is Firm SEC Registered? | F16: Yes | I16: Firm Private Open-End Real Estate Fund AUM | M16: 7215.4
B17: Total Employees | F17: 107 | I17: Firm Private Closed-End Real Estate Fund AUM | M17: 1803.84
B18: Investment Professionals Dedicated to Private Real Estate | F18: 54 | I18: Firm Private Separate Account Real Estate AUM | M18: 0
A20: 2 | B20: Fund Information
B22: Fund Name | D22: ABC Core Fund | I22: Investor Type: | L22: Allowable Type? | M22: Percent
B23: Fund Inception Date | F23: 42771 | I23: Public Pension Plans | L23: Yes | M23: 0.46
I24: Endowments / Foundations | L24: Yes | M24: 0.11
B25: Current Entrance Queue | F25: 40 | I25: Corporate Pension Plans | L25: Yes | M25: 0.13
B26: Est. # of Quarters to Draw New Commitment | F26: 1 | I26: High Net Worth / Family Offices | L26: Yes | M26: 0
B27: Current Exit Queue | F27: 0 | I27: Insurance Firms | L27: Yes | M27: 0.07
B28: Est. # of Quarters to Meet New Redemption Request | F28: 2 | I28: Taft Hartley Plans | L28: Yes | M28: 0.19
I29: Other | L29: Yes | M29: 0.04
B30: Fund Strategy (select from drop-down) | D30: Core
B31: Fund Structure | D31: Delaware Limited Partnership | I31: Minimum Allowed Investment ($M) | M31: 0.5
B32: Name of Fund Portfolio Manager(s) | D32: Francis Scott | I32: Total Number of Investors in Fund | M32: 62
A34: 3 | B34: Fund Terms & Restrictions
B36: Fund Restrictions | E36: % of NAV | G36: Fund Valuation Policy
B37: Maximum Single Property Exposure | E37: 0.15 | G37: Internal or External Appraiser | K37: External
B38: Maximum Fund Leverage | E38: 0.35 | G38: Name of Appraiser | K38: Altus Group U.S., Inc.
B39: Maximum Non-Core Property Type Exposure | E39: 0.2 | G39: Is the Valuation Policy ASC 820 Compliant? | K39: Yes
B40: Maximum Development Exposure | E40: 0.15 | G40: % of Properties Externally Appraised Each Quarter | K40: 1
B41: Maximum Non-US Exposure | E41: N/A
B43: Fund Governance Policies
B44: Does the Firm or Fund have a Responsible Contractor Policy? | G44: Yes
B45: Does Fund Use Only Union Labor (Where Available) | G45: No
B46: Is the Manager of the Fund a Qualified Pension Asset Manager? | G46: Yes
B47: Please describe the level of responsibility: ERISA, Negligence, Gross/Simple, etc. | G47: Describe.
B48: Is the Fund an active member of GRESB? | G48: Yes
B49: Is the Firm a Signatory of PRI? | G49: Yes
...

Sheet Fund-Level Data
B2: NEPC Open-End Fund Request for Information | M2: Data as of: | N2: 46203 | R2: {=_xlfn.IFS(MONTH($N$2)=3,YEAR($N$2)&1,MONTH($N$2)=6,YEAR($N$2)&2,MONTH($N$2)=9,YEAR($N$2)&3,MONTH($N$2)=12,YEAR($N$2)&4)} -> 20262
B4: Important Information:
B5: ="1. Please enter all data as of "&TEXT($N$2,"MMMM DD, YYYY")&"." -> 1. Please enter all data as of June 30, 2026.
B6: 2. Do not add, delete, or modify any rows or columns.
B7: 3. Do not modify any cell formatting.
B8: 4. Please enter all dollars in millions unless otherwise indicated.
B10: Fund-Level Data | P10: Comments
A11: 1 | B11: Fund Balance Sheet Information
D13: =E13-1 -> 2017 | E13: =F13-1 -> 2018 | F13: =G13-1 -> 2019 | G13: =H13-1 -> 2020 | H13: =I13-1 -> 2021 | I13: =J13-1 -> 2022 | J13: =K13-1 -> 2023 | K13: =L13-1 -> 2024 | L13: =YEAR($N$2)-1 -> 2025 | M13: {=_xlfn.IFS(MONTH($N$2)=3,"Q1 "&YEAR($N$2),MONTH($N$2)=6,"YTD "&YEAR($N$2),MONTH($N$2)=9,"YTD "&YEAR($N$2),MONTH($N$2)=12,YEAR($N$2))} -> YTD 2026 | N13: {=_xlfn.IFS(MONTH($N$2)=6,"Q2 "&YEAR($N$2),MONTH($N$2)=9,"Q3 "&YEAR($N$2),MONTH($N$2)=12,"Q4 "&YEAR($N$2),MONTH($N$2)=3,"")} -> Q2 2026
B14: Fund Gross Asset Value | D14: N/A | E14: N/A | F14: N/A | G14: N/A | H14: N/A | I14: N/A | J14: N/A | K14: N/A | L14: N/A | M14: N/A
B15: Fund Net Asset Value | D15: N/A | E15: N/A | F15: N/A | G15: N/A | H15: N/A | I15: N/A | J15: N/A | K15: N/A | L15: N/A | M15: N/A
B16: Cash & Cash Equivalents Balance | D16: N/A | E16: N/A | F16: N/A | G16: N/A | H16: N/A | I16: N/A | J16: N/A | K16: N/A | L16: N/A | M16: N/A
B17: Fund-Level Debt Outstanding | D17: N/A | E17: N/A | F17: N/A | G17: N/A | H17: N/A | I17: N/A | J17: N/A | K17: N/A | L17: N/A | M17: N/A
B18: Fund-Level Debt Capacity (Incl. Utilized) | D18: N/A | E18: N/A | F18: N/A | G18: N/A | H18: N/A | I18: N/A | J18: N/A | K18: N/A | L18: N/A | M18: N/A
B20: Avg. Consolidated Leverage Ratio | D20: N/A | E20: N/A | F20: N/A | G20: N/A | H20: N/A | I20: N/A | J20: N/A | K20: N/A | L20: N/A | M20: N/A
B21: Fixed Rate Debt Outstanding | D21: N/A | E21: N/A | F21: N/A | G21: N/A | H21: N/A | I21: N/A | J21: N/A | K21: N/A | L21: N/A | M21: N/A
B22: Floating Rate Debt Outstanding | D22: N/A | E22: N/A | F22: N/A | G22: N/A | H22: N/A | I22: N/A | J22: N/A | K22: N/A | L22: N/A | M22: N/A
B23: Weighted Average Interest Rate | D23: N/A | E23: N/A | F23: N/A | G23: N/A | H23: N/A | I23: N/A | J23: N/A | K23: N/A | L23: N/A | M23: N/A
B24: Aggregate Fund DSCR | D24: N/A | E24: N/A | F24: N/A | G24: N/A | H24: N/A | I24: N/A | J24: N/A | K24: N/A | L24: N/A | M24: N/A
B26: Redemptions Paid | D26: N/A | E26: N/A | F26: N/A | G26: N/A | H26: N/A | I26: N/A | J26: N/A | K26: N/A | L26: N/A | M26: N/A | N26: N/A
B27: Total Redemption Queue Size | D27: N/A | E27: N/A | F27: N/A | G27: N/A | H27: N/A | I27: N/A | J27: N/A | K27: N/A | L27: N/A | M27: N/A
B29: New Commitments Received | D29: N/A | E29: N/A | F29: N/A | G29: N/A | H29: N/A | I29: N/A | J29: N/A | K29: N/A | L29: N/A | M29: N/A | N29: N/A
B30: New Capital Drawn | D30: N/A | E30: N/A | F30: N/A | G30: N/A | H30: N/A | I30: N/A | J30: N/A | K30: N/A | L30: N/A | M30: N/A | N30: N/A
B31: Total Entry Queue Size | D31: N/A | E31: N/A | F31: N/A | G31: N/A | H31: N/A | I31: N/A | J31: N/A | K31: N/A | L31: N/A | M31: N/A
E33: =YEAR($N$2)+1 -> 2027 | F33: =E33+1 -> 2028 | G33: =F33+1 -> 2029 | H33: =G33+1 -> 2030 | I33: =H33+1 -> 2031 | J33: =I33+1 -> 2032 | K33: Later
B34: Upcoming Debt Maturities by Year ($) | E34: N/A | F34: N/A | G34: N/A | H34: N/A | I34: N/A | J34: N/A | K34: N/A
B35: Upcoming Debt Maturities by Year (%) | E35: =E34/SUM($E$34:$K$34) -> #VALUE! | F35: =F34/SUM($E$34:$K$34) -> #VALUE! | G35: =G34/SUM($E$34:$K$34) -> #VALUE! | H35: =H34/SUM($E$34:$K$34) -> #VALUE! | I35: =I34/SUM($E$34:$K$34) -> #VALUE! | J35: =J34/SUM($E$34:$K$34) -> #VALUE! | K35: =K34/SUM($E$34:$K$34) -> #VALUE!
A37: 2 | B37: Fund Performance
B39: Trailing Time Period (Annualized) | D39: ="Q1 "&YEAR($N$2) -> Q1 2026 | E39: ="Q2 "&YEAR($N$2) -> Q2 2026 | I39: 1 Year | J39: 3 Year | K39: 5 Year | L39: 10 Year | M39: Inception
B40: Income Return | D40: N/A | E40: N/A | I40: N/A | J40: N/A | K40: N/A | L40: N/A | M40: N/A
B41: Appreciation Return | D41: N/A | E41: N/A | I41: N/A | J41: N/A | K41: N/A | L41: N/A | M41: N/A
B42: Total, Gross of Fees | D42: N/A | E42: N/A | I42: N/A | J42: N/A | K42: N/A | L42: N/A | M42: N/A
B43: Total, Net of Fees | D43: N/A | E43: N/A | I43: N/A | J43: N/A | K43: N/A | L43: N/A | M43: N/A
B45: Calendar Year | D45: =E45-1 -> 2017 | E45: =F45-1 -> 2018 | F45: =G45-1 -> 2019 | G45: =H45-1 -> 2020 | H45: =I45-1 -> 2021 | I45: =J45-1 -> 2022 | J45: =K45-1 -> 2023 | K45: =L45-1 -> 2024 | L45: =YEAR($N$2)-1 -> 2025 | M45: {=_xlfn.IFS(MONTH($N$2)=3,"Q1 "&YEAR($N$2),MONTH($N$2)=6,"YTD "&YEAR($N$2),MONTH($N$2)=9,"YTD "&YEAR($N$2),MONTH($N$2)=12,YEAR($N$2))} -> YTD 2026 | N45: {=_xlfn.IFS(MONTH($N$2)=6,"Q2 "&YEAR($N$2),MONTH($N$2)=9,"Q3 "&YEAR($N$2),MONTH($N$2)=12,"Q4 "&YEAR($N$2),MONTH($N$2)=3,"")} -> Q2 2026
B46: Income Return | D46: N/A | E46: N/A | F46: N/A | G46: N/A | H46: N/A | I46: N/A | J46: N/A | K46: N/A | L46: N/A | M46: N/A | N46: N/A
B47: Appreciation Return | D47: N/A | E47: N/A | F47: N/A | G47: N/A | H47: N/A | I47: N/A | J47: N/A | K47: N/A | L47: N/A | M47: N/A | N47: N/A
B48: Debt Mark-to-Market Impact | D48: N/A | E48: N/A | F48: N/A | G48: N/A | H48: N/A | I48: N/A | J48: N/A | K48: N/A | L48: N/A | M48: N/A | N48: N/A
B49: Total, Gross of Fees | D49: N/A | E49: N/A | F49: N/A | G49: N/A | H49: N/A | I49: N/A | J49: N/A | K49: N/A | L49: N/A | M49: N/A | N49: N/A
B50: Total, Net of Fees | D50: N/A | E50: N/A | F50: N/A | G50: N/A | H50: N/A | I50: N/A | J50: N/A | K50: N/A | L50: N/A | M50: N/A | N50: N/A
B52: Unlevered Gross Property Return | D52: N/A | E52: N/A | F52: N/A | G52: N/A | H52: N/A | I52: N/A | J52: N/A | K52: N/A | L52: N/A | M52: N/A | N52: N/A
...

Sheet Altus Data
B2: NEPC Open-End Fund Request for Information | AA2: Data as of: | AB2: ='Fund-Level Data'!N2 -> 46203
B4: Important Information:
B5: 1. Please enter valuation data from Altus.
B6: ="2. Please enter all data as of "&TEXT($AB$2,"MMMM DD, YYYY")&"." -> 2. Please enter all data as of June 30, 2026.
B7: 3. Do not add, delete, or modify any columns. Add rows as necessary.
B8: 4. Please enter whole dollar amounts (not in millions).
B10: Altus Valuation Data Outputs
N11: Implied Cap Rate | P11: Implied Cash On Cash | U11: Average Rent Per SF
B12: Property Type | C12: NCREIF Region | D12: Property Name | E12: City,State | F12: Year Built | G12: Property Count | H12: NRA | I12: Value Conclusion | J12: Value Per SF/Unit | K12: Discount Rate | L12: Terminal Cap Rate | M12: Reversion Percent of DCF Value | N12: Yr1 | O12: 5-year Average | P12: Yr1 | Q12: 5-year Average | R12: Occupancy | S12: NRA Expiring Yrs 1-3 | T12: Average Remaining Lease Terms(yrs) | U12: Contract | V12: Market | W12: % Above/(Below) Market Rent | X12: 10-Yr Average Market Rent Growth | Y12: Total Expenses Per SF | Z12: Expense Growth | AA12: 10-Yr Average Capital Cost Ratio | AB12: Comments / Notes / Sources
A13: Example | B13: Multifamily | C13: Northeast | D13: Cambridge Apartment Portfolio | E13: Cambridge,MA | F13: 2002 | G13: 3 | H13: 224 | I13: 90720000 | J13: =I13/H13 -> 405000 | K13: 0.06 | L13: 0.05 | M13: 0.62 | N13: 0.042 | O13: 0.046 | P13: 0.0395 | Q13: 0.0503 | R13: 0.94 | S13: NM | T13: NM | U13: 2840 | V13: 2840 | W13: 0 | X13: 0.03 | Y13: 10000 | Z13: 0.03 | AA13: 0.005 | AB13: Altus
A14: Example | B14: Office | C14: Pacific | D14: Seattle Office Building | E14: Seattle,WA | F14: 1997 | G14: 1 | H14: 184000 | I14: 154560000 | J14: =I14/H14 -> 840 | K14: 0.065 | L14: 0.055 | M14: 0.68 | N14: 0.047 | O14: 0.052 | P14: 0.0505 | Q14: 0.0492 | R14: 0.87 | S14: 0.44 | T14: 5.65 | U14: 52 | V14: 55.5 | W14: -0.07 | X14: 0.03 | Y14: 22 | Z14: 0.03 | AA14: 0.01 | AB14: Altus
B90: Enter Additional Rows as Necessary

Sheet Additional Asset Data
B2: NEPC Open-End Fund Request for Information | T2: Data as of: | U2: ='Fund-Level Data'!N2 -> 46203
B4: Important Information:
B5: ="1. Please enter all data as of "&TEXT($U$2,"MMMM DD, YYYY")&"." -> 1. Please enter all data as of June 30, 2026.
B6: 2. Do not add, delete, or modify any columns. Add rows as necessary.
B7: 3. Please enter whole dollar amounts (not in millions).
B9: Property Overview | K9: Total Asset Level | S9: Fund Ownership Level
B10: Investment Name | C10: Acquisition Date | D10: Investment Lifecycle | E10: Property Type | F10: Property Sub-Type | G10: Sqft / Units | H10: City | I10: State | J10: Metropolitan Area | K10: Total Gross Cost Basis | L10: Total Current Gross Asset Value | M10: Property-Level Debt Outstanding | N10: Allocated Fund Leverage | O10: Debt Outstanding | P10: Debt Maturity Date | Q10: Current Net Asset Value | R10: Prior Quarter Net Asset Value | S10: Fund Ownership (% of Asset) | T10: Current Net Asset Value (to the Fund) | U10: Unlevered Gross IRR Since Inception
A11: Example | B11: Cambridge Apartment Portfolio | C11: 37742 | D11: Operating | E11: Residential | F11: Garden, Low-Rise, or Mid-Rise Apartment | G11: 224 | H11: Cambridge | I11: MA | J11: Boston-Cambridge-Newton, MA-NH | K11: 45024000 | L11: 90720000 | M11: 29030400 | N11: 0 | O11: 29030400 | P11: 45107 | Q11: 61689600 | R11: 60357105 | S11: 0.96 | T11: 59222016 | U11: 0.097654
A12: Example | B12: Seattle Office Building | C12: 41333 | D12: Leasing | E12: Office | F12: Medical | G12: 184000 | H12: Seattle | I12: WA | J12: Seattle-Tacoma-Bellevue, WA | K12: 92000000 | L12: 154560000 | M12: 0 | N12: 30912000 | O12: 30912000 | P12: 46265 | Q12: 123648000 | R12: 128068416 | S12: 1 | T12: 123648000 | U12: 0.1468027
B88: Enter Additional Rows as Necessary

Sheet Asset Disposition Information
B2: NEPC Open-End Fund Request for Information | T2: Data as of: | U2: ='Fund-Level Data'!N2 -> 46203
B4: Important Information:
B5: ="1. Please enter all asset dispositions for the past five years through "&TEXT($U$2,"MMMM DD, YYYY")&"." -> 1. Please enter all asset dispositions for the past five years through June 30, 2026.
B6: 2. Do not add, delete, or modify any columns. Add rows as necessary.
B7: 3. Please enter whole dollar amounts (not in millions).
B9: Property Overview | L9: Total Asset Level | R9: Fund Ownership Level
B10: Investment Name | C10: Year Built | D10: Acquisition Date | E10: Disposition Date | F10: Property Type | G10: Property Sub-Type | H10: Sqft / Units | I10: City | J10: State | K10: Metropolitan Area | L10: Total Gross Cost Basis | M10: Most Recent Appraisal Value | N10: Property Sale Price (Gross) | O10: Exit Cap Rate (Trailing 12 Months) | P10: Sale Price per Sqft/Unit | Q10: Debt Balance at Sale | R10: Total Net Equity Cost Basis for the Fund | S10: Total Capital Returned to the Fund (Net) | T10: Unlevered IRR to the Fund | U10: Levered IRR to the Fund
A11: Example | B11: Cambridge Apartment Portfolio | C11: 2002 | D11: 37742 | E11: 43708 | F11: Residential | G11: Garden, Low-Rise, or Mid-Rise Apartment | H11: 224 | I11: Cambridge | J11: MA | K11: Boston-Cambridge-Newton, MA-NH | L11: 45024000 | M11: 59500000 | N11: 57852000 | O11: 0.04375 | P11: =N11/H11 -> 258267.86 | Q11: 29030400 | R11: 18750000 | S11: =N11-Q11 -> 28821600 | T11: 0.071384151 | U11: 0.097654
A12: Example | B12: Seattle Office Building | C12: 1997 | D12: 41333 | E12: 44742 | F12: Office | G12: Medical | H12: 184000 | I12: Seattle | J12: WA | K12: Seattle-Tacoma-Bellevue, WA | L12: 92000000 | M12: 142500000 | N12: 144300000 | O12: 0.0582 | P12: =N12/H12 -> 784.23913 | Q12: 60912000 | R12: 72125000 | S12: =N12-Q12 -> 83388000 | T12: 0.17427536 | U12: 0.32483
B30: Enter Additional Rows as Necessary

Sheet Lists
C2: MSAs | E2: Property Type & Sub-Type | K2: Lifecycle
C3: Multiple | E3: Residential | F3: Office | G3: Industrial | H3: Retail | I3: Other | K3: Operating
C4: Other | E4: Student | F4: Medical | G4: Manufacturing | H4: Street | I4: Hotel | K4: Leasing
C5: Atlanta-Sandy Springs-Alpharetta, GA | E5: Age Restricted Apartment | F5: Life Science / Lab | G5: Warehouse | H5: Strip | I5: Seniors Housing | K5: Pre-Lease
C6: Baltimore-Columbia-Towson, MD | E6: Garden, Low-Rise, or Mid-Rise Apartment | F6: Traditional Office | G6: Flex | H6: Mall | I6: Self-Storage | K6: Redevelopment
C7: Boston-Cambridge-Newton, MA-NH | E7: High-Rise Apartment | G7: Specialized | I7: Data Centers | K7: Development
C8: Charlotte-Concord-Gastonia, NC-SC | E8: Manufactured Housing | I8: Land | K8: Land / Pre-Development
C9: Chicago-Naperville-Elgin, IL-IN-WI | E9: Single Family Home Rentals | I9: Other | K9: Debt
C10: Dallas-Fort Worth-Arlington, TX | K10: Other
C11: Denver-Aurora-Lakewood, CO
C12: Detroit-Warren-Ann Arbor, MI
C13: Houston-The Woodlands, TX
C14: Los Angeles-Long Beach-Anaheim, CA
C15: Miami-Fort Lauderdale-Pompano Beach, FL
C16: Minneapolis-St. Paul-Bloomington, MN-WI
C17: New York-Newark-Jersey City, NY-NJ-PA
C18: Orlando-Kissimmee-Sanford, FL
C19: Philadelphia-Camden-Wilmington, PA-NJ-DE-MD
C20: Phoenix-Mesa-Chandler, AZ
C21: Portland-Vancouver-Hillsboro, OR-WA
C22: Riverside-San Bernardino-Ontario, CA
... C29: Washington-Arlington-Alexandria, DC-VA-MD-WV
